BEGIN:VCALENDAR
VERSION:2.0
PRODID:-//eventon.com NONSGML v1.0//EN
BEGIN:VEVENT
UID:69ec180c8ceaf
DTSTAMP:20260425T012532
DTSTART:20210928T150000Z
DTEND:20210928T205000Z
TZID:Europe/Helsinki
LOCATION:
SUMMARY:Tahdon! Online -kurssi
DESCRIPTION: Tahdon! Online -kurssi on vakavasti seurusteleville\,  kihlapareille ja kaksi vuotta naimisissa olleille suunnattu online parisuhdekurssi. Tapaamme elokuun lopusta alkaen kerran viikossa viiden viikon ajan tiistai-iltaisin Zoomissa. Tapaamisissa katsomme yhdessä videoalustuksia\,  joiden jälkeen jälkeen pariskunta pääsee keskustelemaan luottamuksella kahdestaan. AIKATAULU 31.8 klo 18-20 7.9 klo 18-20 14.9 klo 18-20 21.9 klo[..]\nhttps://filahelsinki.fi/events/tahdon-online-kurssi/var/ri-4.l-L1
URL:https://filahelsinki.fi/events/tahdon-online-kurssi/var/ri-4.l-L1
END:VEVENT
END:VCALENDAR