BEGIN:VCALENDAR
VERSION:2.0
PRODID:-//eventon.com NONSGML v1.0//EN
BEGIN:VEVENT
UID:69e514e237594
DTSTAMP:20260419T174610
DTSTART:20210905T140000Z
DTEND:20210905T205000Z
TZID:Europe/Helsinki
LOCATION:
SUMMARY:Kick Off Sunday
DESCRIPTION: Welcome to Kick Off 2021. Every year we gather together to hear about the vision for the upcoming year\,  spend time with each other and to encounter God and worship him as a church family. For more info and to register\,  click the following link  https://bit.ly/FilanKickOff2021  . We cannot wait[..]\nhttps://filahelsinki.fi/events/kick-off-2021-2/
URL:https://filahelsinki.fi/events/kick-off-2021-2/
END:VEVENT
END:VCALENDAR