BEGIN:VCALENDAR
VERSION:2.0
PRODID:-//eventon.com NONSGML v1.0//EN
BEGIN:VEVENT
UID:69e4d3331ebaa
DTSTAMP:20260419T130555
DTSTART:20211128T150000Z
DTEND:20211128T215000Z
TZID:Europe/Helsinki
LOCATION:
SUMMARY:Filan Sunnuntai
DESCRIPTION: Tervetuloa Filan Sunnuntaihin! Filan sunnuntaissa saamme kokoontua yhteen kohtaamaan Jumalaa voimallisen ylistyksen sekä inspiroivan puheen kautta\,  varustautuen ja rohkaistuen tulevaa viikkoa varten.\nhttps://filahelsinki.fi/events/filan-sunnuntai-5/
URL:https://filahelsinki.fi/events/filan-sunnuntai-5/
END:VEVENT
END:VCALENDAR