BEGIN:VCALENDAR
VERSION:2.0
PRODID:-//eventon.com NONSGML v1.0//EN
BEGIN:VEVENT
UID:69ec2e0f94088
DTSTAMP:20260425T025927
DTSTART:20231024T030000Z
DTEND:20231024T205000Z
TZID:Europe/Helsinki
LOCATION:
SUMMARY:Seurakunnan Info -ilta
DESCRIPTION: Filan johto ja hallitus kutsuvat infoiltaan\,  seurakunnan kahvilaan 24.10.23 klo 18.00 seurakunnan liittymisestä Suomen Helluntai kirkkoon. Osoite: Albertinkatu 31\,  Helsinki. Seurakunnan hallitus on tehnyt työtä viimeisen parin vuoden aikana tutkien eri vaihtoehtoja seurakunnan mahdolliseen juridiseen muotoon liittyen. Eri vaihtoehtojen punnitsemisen jälkeen suositelluksi\,  sekä eniten etuja tarjoavaksi vaihtoehdoksi tulevaisuuden kannalta on[..]\nhttps://filahelsinki.fi/events/seurakunnan-info-ilta/
URL:https://filahelsinki.fi/events/seurakunnan-info-ilta/
END:VEVENT
END:VCALENDAR