BEGIN:VCALENDAR
VERSION:2.0
PRODID:-//eventon.com NONSGML v1.0//EN
BEGIN:VEVENT
UID:69eb1871284d3
DTSTAMP:20260424T071457
DTSTART:20240512T140000Z
DTEND:20240512T205000Z
TZID:Europe/Helsinki
LOCATION:
SUMMARY:Filan Sunnuntai
DESCRIPTION: Filan sunnuntaissa saamme kokoontua yhteen kohtaamaan Jumalaa voimallisen ylistyksen sekä inspiroivan puheen kautta\,  varustautuen ja rohkaistuen tulevaa viikkoa varten. Lämpimästi tervetuloa &#8211; olet sitten uusi tai vanha seurakuntaan. Nähdään Albertinkadulla! Tervetuloa mukaan koko perheellä.\nhttps://filahelsinki.fi/events/filan-sunnuntai-copy/var/ri-17.l-L1
URL:https://filahelsinki.fi/events/filan-sunnuntai-copy/var/ri-17.l-L1
END:VEVENT
END:VCALENDAR