BEGIN:VCALENDAR
VERSION:2.0
PRODID:-//eventon.com NONSGML v1.0//EN
BEGIN:VEVENT
UID:69e732cfb0453
DTSTAMP:20260421T081823
DTSTART:20240119
DTEND:20240120
TZID:Europe/Helsinki
LOCATION:
SUMMARY:Preteens sleepover
DESCRIPTION: 4.-6. -luokkalaisten oma rento ja vilpitön yhteisö kokoontuu joka toinen viikko perjantaisin Fila Helsingin tiloissa tai sen lähistöllä. Vauhdin täyteisissä illoissa pidetään hauskaa\,  rakennetaan ystävyyssuhteita ja opitaan tuntemaan Jumalaa syvemmällä tasolla. Kevätkausi 2024 alkaa Preteensien omalla yökylällä Filalla\,  pe-la 19-20.1. Ilta alkaa klo 18. Tervetuloa mukaan\,  kaikki 10-12 -vuotiaat!\nhttps://filahelsinki.fi/events/preteens-sleepover/
URL:https://filahelsinki.fi/events/preteens-sleepover/
END:VEVENT
END:VCALENDAR