BEGIN:VCALENDAR
VERSION:2.0
PRODID:-//eventon.com NONSGML v1.0//EN
BEGIN:VEVENT
UID:69e52fbe4f04e
DTSTAMP:20260419T194046
DTSTART:20260518T030000Z
DTEND:20260518T040000Z
TZID:Pacific/Midway
LOCATION:
SUMMARY:Family Dinner - For families with kids 0-12
DESCRIPTION: Families\,  our heart is to walk alongside you—not only in Sunday services\,  but also in the midst of everyday life. As a church\,  we have begun actively working to create support and connection for you—regardless of your children’s ages. In order to help facilitate Sundays for families we have arranged[..]\nhttps://filahelsinki.fi/events/family-dinners-for-families-with-kids-0-12-copy-2/
URL:https://filahelsinki.fi/events/family-dinners-for-families-with-kids-0-12-copy-2/
END:VEVENT
END:VCALENDAR