BEGIN:VCALENDAR
VERSION:2.0
PRODID:-//eventon.com NONSGML v1.0//EN
BEGIN:VEVENT
UID:69e52fffe68e6
DTSTAMP:20260419T194151
DTSTART:20260426T020000Z
DTEND:20260426T040000Z
TZID:Pacific/Midway
LOCATION:
SUMMARY:Family Hangout
DESCRIPTION: Families\,  our heart is to walk alongside you—not only on Sundays\,  but also in the midst of everyday life. As a church\,  we have begun actively working to create support and connection for you—regardless of your children’s ages. This is a place for your kids to hangout with other kids[..]\nhttps://filahelsinki.fi/events/family-hangout-2/
URL:https://filahelsinki.fi/events/family-hangout-2/
END:VEVENT
END:VCALENDAR